BEGIN:VCALENDAR
VERSION:2.0
PRODID:-//Unite My City - ECPv6.6.4.2//NONSGML v1.0//EN
CALSCALE:GREGORIAN
METHOD:PUBLISH
X-WR-CALNAME:Unite My City
X-ORIGINAL-URL:https://www.unitemycity.tv
X-WR-CALDESC:Events for Unite My City
REFRESH-INTERVAL;VALUE=DURATION:PT1H
X-Robots-Tag:noindex
X-PUBLISHED-TTL:PT1H
BEGIN:VTIMEZONE
TZID:America/Chicago
BEGIN:DAYLIGHT
TZOFFSETFROM:-0600
TZOFFSETTO:-0500
TZNAME:CDT
DTSTART:20240310T080000
END:DAYLIGHT
BEGIN:STANDARD
TZOFFSETFROM:-0500
TZOFFSETTO:-0600
TZNAME:CST
DTSTART:20241103T070000
END:STANDARD
END:VTIMEZONE
BEGIN:VEVENT
DTSTART;VALUE=DATE:20241012
DTEND;VALUE=DATE:20241013
DTSTAMP:20260423T070449
CREATED:20210506T151143Z
LAST-MODIFIED:20210506T151143Z
UID:13941-1728691200-1728777599@www.unitemycity.tv
SUMMARY:Guts Church
DESCRIPTION:Oklahoma Prayer Initiative
URL:https://www.unitemycity.tv/event/guts-church-2024-10-12/
LOCATION:OK
CATEGORIES:Oklahoma Prayer Initiative
END:VEVENT
BEGIN:VEVENT
DTSTART;VALUE=DATE:20241012
DTEND;VALUE=DATE:20241013
DTSTAMP:20260423T070449
CREATED:20210507T031745Z
LAST-MODIFIED:20210507T031745Z
UID:13940-1728691200-1728777599@www.unitemycity.tv
SUMMARY:The Rock Church
DESCRIPTION:Oklahoma Prayer Initiative
URL:https://www.unitemycity.tv/event/the-rock-church-2024-10-12/
LOCATION:OK
CATEGORIES:Oklahoma Prayer Initiative
END:VEVENT
BEGIN:VEVENT
DTSTART;VALUE=DATE:20241012
DTEND;VALUE=DATE:20241013
DTSTAMP:20260423T070449
CREATED:20210512T170156Z
LAST-MODIFIED:20210512T170156Z
UID:13938-1728691200-1728777599@www.unitemycity.tv
SUMMARY:Governor's Office
DESCRIPTION:Oklahoma Prayer Initiative
URL:https://www.unitemycity.tv/event/gov-office-2024-10-12/
LOCATION:OK
CATEGORIES:Oklahoma Prayer Initiative
END:VEVENT
BEGIN:VEVENT
DTSTART;VALUE=DATE:20241012
DTEND;VALUE=DATE:20241013
DTSTAMP:20260423T070449
CREATED:20210512T193114Z
LAST-MODIFIED:20210512T193114Z
UID:13939-1728691200-1728777599@www.unitemycity.tv
SUMMARY:Church 3434
DESCRIPTION:Oklahoma Prayer Initiative
URL:https://www.unitemycity.tv/event/church-3434-2-2024-10-12/
LOCATION:OK
CATEGORIES:Oklahoma Prayer Initiative
END:VEVENT
END:VCALENDAR