BEGIN:VCALENDAR
VERSION:2.0
PRODID:-//Unite My City - ECPv6.6.4.2//NONSGML v1.0//EN
CALSCALE:GREGORIAN
METHOD:PUBLISH
X-ORIGINAL-URL:https://www.unitemycity.tv
X-WR-CALDESC:Events for Unite My City
REFRESH-INTERVAL;VALUE=DURATION:PT1H
X-Robots-Tag:noindex
X-PUBLISHED-TTL:PT1H
BEGIN:VTIMEZONE
TZID:America/Chicago
BEGIN:DAYLIGHT
TZOFFSETFROM:-0600
TZOFFSETTO:-0500
TZNAME:CDT
DTSTART:20240310T080000
END:DAYLIGHT
BEGIN:STANDARD
TZOFFSETFROM:-0500
TZOFFSETTO:-0600
TZNAME:CST
DTSTART:20241103T070000
END:STANDARD
END:VTIMEZONE
BEGIN:VEVENT
DTSTART;VALUE=DATE:20241001
DTEND;VALUE=DATE:20241002
DTSTAMP:20260425T060037
CREATED:20210506T152603Z
LAST-MODIFIED:20210506T152603Z
UID:13929-1727740800-1727827199@www.unitemycity.tv
SUMMARY:Sheridan Church
DESCRIPTION:Oklahoma Prayer Initiative
URL:https://www.unitemycity.tv/event/sheridan-church-2024-10-01/
LOCATION:OK
CATEGORIES:Oklahoma Prayer Initiative
END:VEVENT
BEGIN:VEVENT
DTSTART;VALUE=DATE:20241001
DTEND;VALUE=DATE:20241002
DTSTAMP:20260425T060037
CREATED:20220201T215809Z
LAST-MODIFIED:20220201T215809Z
UID:13928-1727740800-1727827199@www.unitemycity.tv
SUMMARY:Destiny Christian Center
DESCRIPTION:Oklahoma Prayer Initiative
URL:https://www.unitemycity.tv/event/destiny-christian-center-2024-10-01/
LOCATION:OK
CATEGORIES:Oklahoma Prayer Initiative
END:VEVENT
END:VCALENDAR